BEGIN:VCALENDAR
VERSION:2.0
PRODID:-//eventon.com NONSGML v1.0//EN
CALSCALE:GREGORIAN
METHOD:PUBLISH
BEGIN:VEVENT
UID:69ea6d7d10199
DTSTAMP:20260423T140533
DTSTART:20260401T040000Z
DTEND:20260930T155900Z
TZID:America/New_York
LOCATION:
SUMMARY:Culinary Escape
DESCRIPTION: [vc_row][vc_column][vc_column_text uncode_shortcode_id=&#8221;841282&#8243;] CLICK HERE TO BOOK NOW &nbsp; For those who plan their getaways around what’s on the plate\,  this is where it all comes together. The pace slows\,  the appetite builds\,  and the experience begins long before the first course. Arrive in cabin\,  our signature dining experience\,  where every[..]\nhttps://hockley.com/event/culinary-escape-2/
URL:https://hockley.com/event/culinary-escape-2/
END:VEVENT
END:VCALENDAR