BEGIN:VCALENDAR
VERSION:2.0
PRODID:-//eventon.com NONSGML v1.0//EN
CALSCALE:GREGORIAN
METHOD:PUBLISH
BEGIN:VEVENT
UID:69ea6d7d21647
DTSTAMP:20260423T140533
DTSTART:20260401T040000Z
DTEND:20260930T155900Z
TZID:America/New_York
LOCATION:
SUMMARY:Getaway Your Way
DESCRIPTION: [vc_row][vc_column][vc_column_text uncode_shortcode_id=&#8221;581239&#8243;] CLICK HERE TO BOOK NOW &nbsp; The best kind of escape is the one you don’t have to plan too carefully. Arrive at Hockley Valley Resort and let the day take its own shape. Start slow or head straight into it with a round of golf\,  time at[..]\nhttps://hockley.com/event/getaway-your-way-2/
URL:https://hockley.com/event/getaway-your-way-2/
END:VEVENT
END:VCALENDAR