BEGIN:VCALENDAR
VERSION:2.0
PRODID:-//eventon.com NONSGML v1.0//EN
CALSCALE:GREGORIAN
METHOD:PUBLISH
BEGIN:VEVENT
UID:69ea706837522
DTSTAMP:20260423T141800
DTSTART:20260401T040000Z
DTEND:20260930T155900Z
TZID:America/New_York
LOCATION:
SUMMARY:Bed & Breakfast
DESCRIPTION: [vc_row][vc_column][vc_column_text uncode_shortcode_id=&#8221;836421&#8243;] CLICK HERE TO BOOK NOW &nbsp; Some getaways aren’t about planning\,  they’re about arriving\,  settling in\,  and letting the day unfold on its own. At Hockley Valley Resort\,  check in\,  drop your bags\,  and ease into the rhythm of the property. Maybe it’s a leisurely walk\,  a glass[..]\nhttps://hockley.com/event/bed-breakfast-5/
URL:https://hockley.com/event/bed-breakfast-5/
END:VEVENT
END:VCALENDAR