BEGIN:VCALENDAR
VERSION:2.0
PRODID:-//eventon.com NONSGML v1.0//EN
CALSCALE:GREGORIAN
METHOD:PUBLISH
BEGIN:VEVENT
UID:69ea6d89950d7
DTSTAMP:20260423T140545
DTSTART:20260621T143000Z
DTEND:20260621T190000Z
TZID:America/New_York
LOCATION:
SUMMARY:Father's Day Brunch 2026
DESCRIPTION: [vc_row][vc_column][vc_column_text uncode_shortcode_id=&#8221;846608&#8243;] CLICK HERE TO BOOK NOW &nbsp; Sunday\,  June 21\,  2026 | Reservations from 10:30 am to 3:00pm Celebrate Dad with a brunch that’s anything but ordinary. Join us this Father’s Day for a hearty spread of chef-crafted favourites from buttermilk fried chicken and overnight braised beef to live[..]\nhttps://hockley.com/event/fathers-day-brunch-2026/
URL:https://hockley.com/event/fathers-day-brunch-2026/
END:VEVENT
END:VCALENDAR