BEGIN:VCALENDAR
VERSION:2.0
PRODID:-//eventon.com NONSGML v1.0//EN
CALSCALE:GREGORIAN
METHOD:PUBLISH
BEGIN:VEVENT
UID:69e7a2e76f75e
DTSTAMP:20260421T111639
DTSTART:20260101T050000Z
DTEND:20260131T165900Z
TZID:America/New_York
LOCATION:Hockley Valley Resort 793522 3rd Line EHS
SUMMARY:January Spa Promotions
DESCRIPTION: [vc_row][vc_column width=&#8221;1/1&#8243;][vc_column_text uncode_shortcode_id=&#8221;133100&#8243;]MONDAY &#8211; FRIDAY Brush\,  Buff &amp; Body Bliss | $185* | 70 minutes This full-body ritual begins with a dry-brush exfoliation to encourage lymphatic flow and refine skin texture. A warming Sauna Pac Mud is applied to areas of concern to visibly tone and target cellulite\,  while a[..]\nhttps://hockley.com/event/january-spa-promotions/
URL:https://hockley.com/event/january-spa-promotions/
END:VEVENT
END:VCALENDAR