BEGIN:VCALENDAR
VERSION:2.0
PRODID:-//eventon.com NONSGML v1.0//EN
CALSCALE:GREGORIAN
METHOD:PUBLISH
BEGIN:VEVENT
UID:69eba31ecb255
DTSTAMP:20260424T120638
DTSTART:20260214T230000Z
DTEND:20260215T030000Z
TZID:America/New_York
LOCATION:Hockley Valley Resort 793522 3rd Line EHS
SUMMARY:Valentines Day: Dinner & Yuk Yuks Comedy Show
DESCRIPTION: [vc_row][vc_column][vc_column_text uncode_shortcode_id=&#8221;534935&#8243;] SOLD OUT &nbsp; February 14\,  2026 | 6pm | $89* per person 6 pm reception with dinner and show to follow. Keep the night going! DJ &amp; dancing afterward. MENU “A Little Cheesy\,  A Lot of Love” Roasted red pepper bisque with goat cheese crostini warm\,  velvety\,  and[..]\nhttps://hockley.com/event/valentines-day-dinner-yuk-yuks-comedy-show/
URL:https://hockley.com/event/valentines-day-dinner-yuk-yuks-comedy-show/
END:VEVENT
END:VCALENDAR