BEGIN:VCALENDAR
VERSION:2.0
PRODID:-//eventon.com NONSGML v1.0//EN
CALSCALE:GREGORIAN
METHOD:PUBLISH
BEGIN:VEVENT
UID:69e74d853bc97
DTSTAMP:20260421T051221
DTSTART:20251031T220000Z
DTEND:20251101T035900Z
TZID:America/New_York
LOCATION:Hockley Valley Resort 793522 3rd Line EHS
SUMMARY:Murder Mystery
DESCRIPTION: CLICK HERE TO BOOK NOW &nbsp; Murder Mystery October 31st | 6pm &#8211; 1am | $89* per peron 3 Course Dinner\,  Live DJ &amp; Dance (9pm &#8211; 1am) Theme: 1970s Movie Moguls Party MENU First Clue – “Bloody Beginnings” Roasted red pepper &amp; tomato soup\,  crème fraiche Main Suspect –[..]\nhttps://hockley.com/event/murder-mystery/
URL:https://hockley.com/event/murder-mystery/
END:VEVENT
END:VCALENDAR