BEGIN:VCALENDAR
VERSION:2.0
PRODID:-//eventon.com NONSGML v1.0//EN
CALSCALE:GREGORIAN
METHOD:PUBLISH
BEGIN:VEVENT
UID:69e95fcc8aaa1
DTSTAMP:20260422T185452
DTSTART:20250701T040000Z
DTEND:20251031T155900Z
TZID:America/New_York
LOCATION:
SUMMARY:Wine Lovers Escape
DESCRIPTION: CLICK HERE TO BOOK NOW &nbsp; July &#8211; October 31st\,  2025 Every day of the week | Starting from $229* per person based on double occupancy Includes: • Overnight Accommodation • Breakfast • $180 gift card used towards wine tasting\,  wine and food purchases at Adamo Estate Winery • Complimentary[..]\nhttps://hockley.com/event/wine-lovers-escape/
URL:https://hockley.com/event/wine-lovers-escape/
END:VEVENT
END:VCALENDAR