BEGIN:VCALENDAR
VERSION:2.0
PRODID:-//eventon.com NONSGML v1.0//EN
CALSCALE:GREGORIAN
METHOD:PUBLISH
BEGIN:VEVENT
UID:69e635cc3982d
DTSTAMP:20260420T091852
DTSTART:20250619T210000Z
DTEND:20250918T210000Z
TZID:America/New_York
LOCATION:Hockley Valley Resort 793522 3rd Line EHS
SUMMARY:Golf Ladies' Night
DESCRIPTION: A fun\,  relaxed evening on the course—perfect for all skill levels! Whether you’re just learning or have been playing for years\,  this is your night to unwind\,  play\,  and socialize. $49 | JUNE 19 • JULY 17 • AUGUST 21 • SEPTEMBER 18 | 5:00 PM 9 Holes Golf Cart[..]\nhttps://hockley.com/event/golf-ladies-night/
URL:https://hockley.com/event/golf-ladies-night/
END:VEVENT
END:VCALENDAR